BEGIN:VCALENDAR
VERSION:2.0
PRODID:-//Mélanie Malbet HypnoCoaching - ECPv6.15.20//NONSGML v1.0//EN
CALSCALE:GREGORIAN
METHOD:PUBLISH
X-ORIGINAL-URL:https://www.malbet-hypnose.com
X-WR-CALDESC:Évènements pour Mélanie Malbet HypnoCoaching
REFRESH-INTERVAL;VALUE=DURATION:PT1H
X-Robots-Tag:noindex
X-PUBLISHED-TTL:PT1H
BEGIN:VTIMEZONE
TZID:Europe/Paris
BEGIN:DAYLIGHT
TZOFFSETFROM:+0100
TZOFFSETTO:+0200
TZNAME:CEST
DTSTART:20240331T010000
END:DAYLIGHT
BEGIN:STANDARD
TZOFFSETFROM:+0200
TZOFFSETTO:+0100
TZNAME:CET
DTSTART:20241027T010000
END:STANDARD
BEGIN:DAYLIGHT
TZOFFSETFROM:+0100
TZOFFSETTO:+0200
TZNAME:CEST
DTSTART:20250330T010000
END:DAYLIGHT
BEGIN:STANDARD
TZOFFSETFROM:+0200
TZOFFSETTO:+0100
TZNAME:CET
DTSTART:20251026T010000
END:STANDARD
BEGIN:DAYLIGHT
TZOFFSETFROM:+0100
TZOFFSETTO:+0200
TZNAME:CEST
DTSTART:20260329T010000
END:DAYLIGHT
BEGIN:STANDARD
TZOFFSETFROM:+0200
TZOFFSETTO:+0100
TZNAME:CET
DTSTART:20261025T010000
END:STANDARD
BEGIN:DAYLIGHT
TZOFFSETFROM:+0100
TZOFFSETTO:+0200
TZNAME:CEST
DTSTART:20270328T010000
END:DAYLIGHT
BEGIN:STANDARD
TZOFFSETFROM:+0200
TZOFFSETTO:+0100
TZNAME:CET
DTSTART:20271031T010000
END:STANDARD
END:VTIMEZONE
BEGIN:VEVENT
DTSTART;TZID=Europe/Paris:20260321T153000
DTEND;TZID=Europe/Paris:20260321T190000
DTSTAMP:20260423T165543
CREATED:20260223T152741Z
LAST-MODIFIED:20260223T152837Z
UID:2181-1774107000-1774119600@www.malbet-hypnose.com
SUMMARY:Pilates et Hypno-relaxation
DESCRIPTION:Le samedi 21 mars 2026\, nous vous proposons un atelier en deux temps\, alliant Pilates et hypno-relaxation\, pour permettre au corps de s’allonger en douceur et à l’esprit de se déposer. \n\nDe 15h30 à 17h\, le premier temps sera consacré au mouvement : se mobiliser\, s’étirer\, retrouver de la longueur dans le corps et dans la colonne vertébrale\, sous la guidance précise et bienveillante de Camille Mousseau\, professeure de Pilates.\nDe 17h30 à 19h\, le second temps viendra approfondir l’expérience grâce à l’hypno-relaxation. À travers la respiration et l’accompagnement verbal\, nous irons plus loin dans la sensation d’espace\, pour intégrer pleinement le travail corporel et réunir corps et esprit dans un relâchement profond.\n\n\nLes deux ateliers peuvent être suivis indépendamment ou ensemble\, pour une expérience complète et progressive. \n\nLieu : Maison de Famille – La ChâtaigneraieTarif :30 € pour un atelier (50 € en duo)50 € pour les deux ateliers (90 € en duo) \nUn moment pour se grandir\, respirer et retrouver de l’espace en soi.
URL:https://www.malbet-hypnose.com/ateliers/pilates-et-hypno-relaxation/
ATTACH;FMTTYPE=image/png:https://www.malbet-hypnose.com/wp-content/uploads/2026/02/Pilates-hypno-relaxation.png
END:VEVENT
BEGIN:VEVENT
DTSTART;VALUE=DATE:20260314
DTEND;VALUE=DATE:20260315
DTSTAMP:20260423T165543
CREATED:20260207T172547Z
LAST-MODIFIED:20260207T172547Z
UID:2173-1773446400-1773532799@www.malbet-hypnose.com
SUMMARY:Yoga et hypno-relaxation
DESCRIPTION:Expérience entre Corps et Conscience\nYoga & hypno-relaxation \nNous vous proposons une expérience immersive mêlant yoga et hypno-relaxation\, pensée comme une rencontre entre le corps et la conscience.Deux formats\, deux énergies\, une seule intention : se rencontrer autrement\, en laissant le corps et l’esprit travailler ensemble\, chacun au service de l’autre. \nCes ateliers s’adressent à toute personne ressentant le besoin de ralentir\, de se reconnecter à elle-même ou de remettre du mouvement là où quelque chose s’est figé\, physiquement comme intérieurement. \n\nDeux ateliers complémentaires\nAtelier 1 – Quand l’esprit libère le corpsUne expérience dynamique et guidée\, où le mouvement corporel\, la respiration et l’hypno-relaxation s’entrelacent pour aider à relâcher les tensions\, dépasser certains blocages corporels et retrouver plus de liberté\, de fluidité et de confiance dans le mouvement.Cet atelier est particulièrement adapté aux personnes qui se sentent limitées dans leurs mouvements ou qui ont besoin d’être rassurées pour oser remettre leur corps en action. \nAtelier 2 – Corps et intériorité : se reconnecter à soi en douceurUn temps plus introspectif\, lent et apaisant\, mêlant yoga doux et hypno-relaxation.L’objectif est d’approfondir l’écoute de soi\, de favoriser l’alignement entre le corps et l’esprit\, et de permettre une reconnexion intérieure en douceur.Le corps devient alors un véritable allié du processus d’introspection\, tout comme l’état de présence intérieure soutient le corps. \n\nUn parcours à vivre à votre rythme\nChaque atelier peut être vécu séparément ou comme un parcours complet\, allant du mouvement vers l’introspection\, de l’action corporelle vers une rencontre plus profonde avec soi-même. \n\nInformations pratiques\nDate : Samedi 14 mars 2026Lieu : Maison de famille La Châtaigneraie \nHoraires :Atelier 1 : 15h à 16h30Atelier 2 : 17h à 19h \nTarifs :Atelier 1 : 25 € / duo 40 €Atelier 2 : 35 € / duo 60 €Parcours complet : 55 € / duo 90 € \nSur inscription – places limitées \n\nAnimé par\nLauriane Sessi\, professeure de yogaTéléphone : 07 69 15 41 91 \nMélanie Malbet\, coach et hypnothérapeuteTéléphone : 06 43 74 96 64
URL:https://www.malbet-hypnose.com/ateliers/yoga-et-hypno-relaxation/
ATTACH;FMTTYPE=image/png:https://www.malbet-hypnose.com/wp-content/uploads/2026/02/4-1.png
END:VEVENT
BEGIN:VEVENT
DTSTART;TZID=Europe/Paris:20251006T190000
DTEND;TZID=Europe/Paris:20251006T203000
DTSTAMP:20260423T165543
CREATED:20250905T082940Z
LAST-MODIFIED:20250905T083206Z
UID:1972-1759777200-1759782600@www.malbet-hypnose.com
SUMMARY:OCTOBRE ROSE : Yoga et Hypno-relaxation : cultivez confiance et amour de Soi
DESCRIPTION:À l’occasion d’Octobre Rose\, l’association Bien-être en Parisis dont je fais partie se mobilise pour soutenir la lutte contre le cancer du sein.Tout au long du mois\, nous vous proposons des ateliers bien-être accessibles à tous\, au tarif symbolique de minimum 5 euros. \nL’intégralité des recettes sera reversée à notre association partenaire engagée dans la recherche\, le soutien et l’accompagnement des personnes touchées par la maladie. \nCes ateliers sont l’occasion de prendre soin de vous\, de découvrir de nouvelles pratiques bien-être et de partager un moment convivial et solidaire. \nVotre participation\, même petite\, contribue à une grande cause. Ensemble\, faisons de chaque geste un pas vers plus de soutien\, plus d’espoir\, et plus de vie.  \nDe mon côté\, je vous propose un atelier avec Lauriane\, Professeure de Yoga\, pour vous accompagner dans l’exploration de vos ressources et capacité durant un cours de Yoga sous hypno-relaxation. Au plaisir de vous y retrouver ! \nLes inscriptions seront ouvertes dès le samedi 6 septembre 2025 à 9h ! Inscriptions ici.
URL:https://www.malbet-hypnose.com/ateliers/octobre-rose-yoga-et-hypno-relaxation-cultivez-confiance-et-amour-de-soi/
LOCATION:Cormeilles\, Maurice Berteaux\, Cormeilles en parisis
ATTACH;FMTTYPE=image/png:https://www.malbet-hypnose.com/wp-content/uploads/2025/09/1000028769.png
END:VEVENT
BEGIN:VEVENT
DTSTART;VALUE=DATE:20250518
DTEND;VALUE=DATE:20250519
DTSTAMP:20260423T165543
CREATED:20250311T152544Z
LAST-MODIFIED:20250416T092908Z
UID:1959-1747526400-1747612799@www.malbet-hypnose.com
SUMMARY:Atelier de coaching créatif : Oser être soi !
DESCRIPTION:Une journée pour explorer\, comprendre et incarner pleinement qui vous êtes. \nNous avons conçu cet atelier comme une expérience immersive et transformatrice\, mêlant coaching\, hypnose\, énergétique et art-thérapie \, afin de vous accompagner dans un voyage intérieur puissant. \nCette journée se divise en deux ateliers distincts \, qui peuvent être suivis sélectivement ou en complémentarité pour une expérience plus profonde. \n\n📌 Matin (10h – 13h) : « Qui suis-je vraiment ? »\nNous portons tous des masques \, façonnés par nos expériences\, notre éducation\, nos peurs ou nos croyances. Mais sous ces apparences\, qui sommes-nous vraiment ? Cet atelier vous invite à explorer votre identité profonde\, au-delà des attentes extérieures. \n🔹 Ce que vous allez expérimenter :✔ Un voyage introspectif à travers des exercices de coaching et d’hypnose pour identifier vos véritables aspirations et comprendre ce qui vous définit. ✔ Un travail créatif autour du masque : représenter son « moi social » à travers l’art-thérapie avant de le déconstruire pour mieux révéler son authenticité. ✔ Un processus de transformation : à partir du masque déconstruit\, vous créerez un objet symbolique représentant votre véritable essence. ✔ Un ancrage énergétique et émotionnel\, pour repartir aligné(e) avec qui vous êtes profondément. \n👉 Cet atelier est pour vous si : \n\nVous ressentez un décalage entre votre identité intérieure et l’image que vous projetez.\nVous souhaitez mieux comprendre ce qui vous anime vraiment et ce qui vous freine.\nVous avez envie d’un moment introspectif\, créatif et libérateur.\n\n\n📌 Après-midi (14h30 – 17h30) : « Assumer qui je suis »\nUne fois votre identité mieux définie\, comment oser l’incarner pleinement dans votre quotidien ? Cet atelier vous aide à accepter et dépasser vos blocages\, qu’ils soient liés aux peurs\, aux croyances limitantes ou aux jugements extérieurs. \n🔹 Ce que vous allez expérimenter :✔ Un exercice d’introspection pour identifier les freins qui vous empêchent d’oser être pleinement vous-même. ✔ Un travail de transformation à travers l’art-thérapie et l’hypnose\, pour changer votre perception de vos blocages et en faire une force. ✔ Des outils concrets de coaching pour apprendre à naviguer avec vos émotions\, poser vos limites et avancer avec confiance. ✔ Un rituel de clôture pour intégrer cette nouvelle posture et repartir avec un objet symbolique comme ancrage. \n👉 Cet atelier est pour vous si : \n\nVous avez du mal à vous affirmer dans certaines situations.\nVous souhaitez dépasser des peurs ou des croyances limitantes.\nVous cherchez des outils concrets pour mieux gérer vos émotions et avancer en confiance.\n\n\n🌟 Une expérience unique et personnalisée\nQue vous choisissiez de venir le matin\, l’après-midi ou la journée entière\, chaque atelier est conçu pour être une expérience complète et transformatrice. \nPourquoi suivre la journée entière ?✔ Le matin vous permet d’explorer votre identité profonde et de poser des bases solides. ✔ L’après-midi vous aide à assumer et incarner pleinement cette identité dans votre quotidien. ✔ L’ensemble forme un parcours cohérent qui vous offre une vision complète de votre transformation . \n\n📅Infos pratiques & inscriptions\n📍 Lieu : Cormeilles-en-Parisis📆 Date : Dimanche 18 mai 2025⏰ Horaires : \n\nMatinée : 10h- 13h\nAprès midi : 14h30 – 17h30\nJournée complète : 10h – 17h30 (pause déjeuner sur place possible)\n\n💶 Tarifs : \n\nMatin seul : 60€\nAprès midi seul : 60€\nJournée complète (tarif réduit) : 110€\nPossibilité de manger sur place (optionnel\, buffet froid simple type bar à salade) : 6€\n\n👥 Atelier en petit groupe – Places limitées pour un accompagnement personnalisé. \n📩 Inscription obligatoire – Contactez-nous  :06.43.74.96.64 ou 06.27.12.29.92 \n✨ Offrez-vous cette parenthèse pour mieux vous connaître et avancer en confiance vers votre authenticité !
URL:https://www.malbet-hypnose.com/ateliers/atelier-de-coaching-creatif-oser-etre-soi/
ATTACH;FMTTYPE=image/png:https://www.malbet-hypnose.com/wp-content/uploads/2025/03/1.png
END:VEVENT
BEGIN:VEVENT
DTSTART;VALUE=DATE:20250330
DTEND;VALUE=DATE:20250331
DTSTAMP:20260423T165543
CREATED:20250311T150050Z
LAST-MODIFIED:20250311T150433Z
UID:1943-1743292800-1743379199@www.malbet-hypnose.com
SUMMARY:Atelier : Comprendre et équilibrer ses émotions
DESCRIPTION:Les émotions rythment notre quotidien et influencent nos choix\, nos relations et notre bien-être. Pourtant\, il n’est pas toujours évident de les comprendre ni de les gérer efficacement. Lorsqu’elles sont mal appréhendées\, elles peuvent devenir des freins : difficulté à prendre des décisions\, stress excessif\, blocages dans les relations ou encore perte de confiance en soi. \n💡 Et si vous pouviez apprendre à transformer vos émotions en véritables alliées ? \nAvec Mélanie Malbet \, hypnothérapeute & coach\, et Vinciane Peneloppe \, praticienne en PNL & formatrice\, en bilan de compétences\, nous vous proposons un atelier immersif et interactif pour explorer vos émotions sous un nouvel angle et apprendre à mieux les réguler. \n\nAu programme :\n✔ Comprendre le rôle des émotions et leur impact sur vos pensées et comportements. ✔ Identifier vos schémas émotionnels et repérer ce qui peut les amplifier ou les apaiser. ✔ Débloquer certaines limitations inconscientes qui vous freinent dans votre bien-être et votre épanouissement. ✔ Explorer vos ressources internes pour renforcer votre équilibre émotionnel et mieux gérer les situations du quotidien. ✔ Répartir avec des outils concrets et pratiques pour ancrer durablement ces apprentissages. \n\nCet atelier est fait pour vous si :\n✅ Vous ressentez parfois des émotions envahissantes que vous ne savez pas toujours gérer. ✅ Vous souhaitez mieux comprendre ce qui déclenche certaines réactions et éviter de subir vos émotions. ✅ Vous aimeriez gagner en confiance et en assurance dans votre prise de décision et votre relation aux autres. ✅ Vous souhaitez découvrir des approches concrètes pour mieux vivre vos émotions au quotidien. \n\nInformations pratiques :\n📅 Date : Dimanche 30 mars 2025⏰ Horaire : 14h – 16h30 💰 Tarif : 60€ 📍 Lieu : Cormeilles-en-Parisis \n📩 Les places sont limitées ! Réservez la vôtre dès maintenant en nous contactant (Mélanie : 06.43.74.96.64 / Vinciane : 07.69.59.65.24). \nRejoignez-nous pour un moment d’exploration et de transformation intérieure dans un cadre bienveillant et dynamique ! 🌿✨
URL:https://www.malbet-hypnose.com/ateliers/atelier-comprendre-et-equilibrer-ses-emotions/
ATTACH;FMTTYPE=image/png:https://www.malbet-hypnose.com/wp-content/uploads/2025/03/Flyer-Informations-Evenement-Benevolat-Simple-Vert-et-Jaune-1080-x-1350-px.png
ORGANIZER;CN="M%C3%A9lanie et Vinciane":MAILTO:contact@malbet-hypnose.com ou Vinciane.pnl@gmail.com
END:VEVENT
END:VCALENDAR