BEGIN:VCALENDAR
VERSION:2.0
PRODID:-//Mélanie Malbet HypnoCoaching - ECPv6.15.20//NONSGML v1.0//EN
CALSCALE:GREGORIAN
METHOD:PUBLISH
X-ORIGINAL-URL:https://www.malbet-hypnose.com
X-WR-CALDESC:Évènements pour Mélanie Malbet HypnoCoaching
REFRESH-INTERVAL;VALUE=DURATION:PT1H
X-Robots-Tag:noindex
X-PUBLISHED-TTL:PT1H
BEGIN:VTIMEZONE
TZID:Europe/Paris
BEGIN:DAYLIGHT
TZOFFSETFROM:+0100
TZOFFSETTO:+0200
TZNAME:CEST
DTSTART:20240331T010000
END:DAYLIGHT
BEGIN:STANDARD
TZOFFSETFROM:+0200
TZOFFSETTO:+0100
TZNAME:CET
DTSTART:20241027T010000
END:STANDARD
BEGIN:DAYLIGHT
TZOFFSETFROM:+0100
TZOFFSETTO:+0200
TZNAME:CEST
DTSTART:20250330T010000
END:DAYLIGHT
BEGIN:STANDARD
TZOFFSETFROM:+0200
TZOFFSETTO:+0100
TZNAME:CET
DTSTART:20251026T010000
END:STANDARD
BEGIN:DAYLIGHT
TZOFFSETFROM:+0100
TZOFFSETTO:+0200
TZNAME:CEST
DTSTART:20260329T010000
END:DAYLIGHT
BEGIN:STANDARD
TZOFFSETFROM:+0200
TZOFFSETTO:+0100
TZNAME:CET
DTSTART:20261025T010000
END:STANDARD
END:VTIMEZONE
BEGIN:VEVENT
DTSTART;VALUE=DATE:20250518
DTEND;VALUE=DATE:20250519
DTSTAMP:20260424T075742
CREATED:20250311T152544Z
LAST-MODIFIED:20250416T092908Z
UID:1959-1747526400-1747612799@www.malbet-hypnose.com
SUMMARY:Atelier de coaching créatif : Oser être soi !
DESCRIPTION:Une journée pour explorer\, comprendre et incarner pleinement qui vous êtes. \nNous avons conçu cet atelier comme une expérience immersive et transformatrice\, mêlant coaching\, hypnose\, énergétique et art-thérapie \, afin de vous accompagner dans un voyage intérieur puissant. \nCette journée se divise en deux ateliers distincts \, qui peuvent être suivis sélectivement ou en complémentarité pour une expérience plus profonde. \n\n📌 Matin (10h – 13h) : « Qui suis-je vraiment ? »\nNous portons tous des masques \, façonnés par nos expériences\, notre éducation\, nos peurs ou nos croyances. Mais sous ces apparences\, qui sommes-nous vraiment ? Cet atelier vous invite à explorer votre identité profonde\, au-delà des attentes extérieures. \n🔹 Ce que vous allez expérimenter :✔ Un voyage introspectif à travers des exercices de coaching et d’hypnose pour identifier vos véritables aspirations et comprendre ce qui vous définit. ✔ Un travail créatif autour du masque : représenter son « moi social » à travers l’art-thérapie avant de le déconstruire pour mieux révéler son authenticité. ✔ Un processus de transformation : à partir du masque déconstruit\, vous créerez un objet symbolique représentant votre véritable essence. ✔ Un ancrage énergétique et émotionnel\, pour repartir aligné(e) avec qui vous êtes profondément. \n👉 Cet atelier est pour vous si : \n\nVous ressentez un décalage entre votre identité intérieure et l’image que vous projetez.\nVous souhaitez mieux comprendre ce qui vous anime vraiment et ce qui vous freine.\nVous avez envie d’un moment introspectif\, créatif et libérateur.\n\n\n📌 Après-midi (14h30 – 17h30) : « Assumer qui je suis »\nUne fois votre identité mieux définie\, comment oser l’incarner pleinement dans votre quotidien ? Cet atelier vous aide à accepter et dépasser vos blocages\, qu’ils soient liés aux peurs\, aux croyances limitantes ou aux jugements extérieurs. \n🔹 Ce que vous allez expérimenter :✔ Un exercice d’introspection pour identifier les freins qui vous empêchent d’oser être pleinement vous-même. ✔ Un travail de transformation à travers l’art-thérapie et l’hypnose\, pour changer votre perception de vos blocages et en faire une force. ✔ Des outils concrets de coaching pour apprendre à naviguer avec vos émotions\, poser vos limites et avancer avec confiance. ✔ Un rituel de clôture pour intégrer cette nouvelle posture et repartir avec un objet symbolique comme ancrage. \n👉 Cet atelier est pour vous si : \n\nVous avez du mal à vous affirmer dans certaines situations.\nVous souhaitez dépasser des peurs ou des croyances limitantes.\nVous cherchez des outils concrets pour mieux gérer vos émotions et avancer en confiance.\n\n\n🌟 Une expérience unique et personnalisée\nQue vous choisissiez de venir le matin\, l’après-midi ou la journée entière\, chaque atelier est conçu pour être une expérience complète et transformatrice. \nPourquoi suivre la journée entière ?✔ Le matin vous permet d’explorer votre identité profonde et de poser des bases solides. ✔ L’après-midi vous aide à assumer et incarner pleinement cette identité dans votre quotidien. ✔ L’ensemble forme un parcours cohérent qui vous offre une vision complète de votre transformation . \n\n📅Infos pratiques & inscriptions\n📍 Lieu : Cormeilles-en-Parisis📆 Date : Dimanche 18 mai 2025⏰ Horaires : \n\nMatinée : 10h- 13h\nAprès midi : 14h30 – 17h30\nJournée complète : 10h – 17h30 (pause déjeuner sur place possible)\n\n💶 Tarifs : \n\nMatin seul : 60€\nAprès midi seul : 60€\nJournée complète (tarif réduit) : 110€\nPossibilité de manger sur place (optionnel\, buffet froid simple type bar à salade) : 6€\n\n👥 Atelier en petit groupe – Places limitées pour un accompagnement personnalisé. \n📩 Inscription obligatoire – Contactez-nous  :06.43.74.96.64 ou 06.27.12.29.92 \n✨ Offrez-vous cette parenthèse pour mieux vous connaître et avancer en confiance vers votre authenticité !
URL:https://www.malbet-hypnose.com/ateliers/atelier-de-coaching-creatif-oser-etre-soi/
ATTACH;FMTTYPE=image/png:https://www.malbet-hypnose.com/wp-content/uploads/2025/03/1.png
END:VEVENT
END:VCALENDAR